BEGIN:VCALENDAR
VERSION:2.0
PRODID:-//Aarón Langarica Santander - ECPv6.15.20//NONSGML v1.0//EN
CALSCALE:GREGORIAN
METHOD:PUBLISH
X-ORIGINAL-URL:https://www.aaronlangarica.es
X-WR-CALDESC:Eventos para Aarón Langarica Santander
REFRESH-INTERVAL;VALUE=DURATION:PT1H
X-Robots-Tag:noindex
X-PUBLISHED-TTL:PT1H
BEGIN:VTIMEZONE
TZID:Europe/Madrid
BEGIN:DAYLIGHT
TZOFFSETFROM:+0100
TZOFFSETTO:+0200
TZNAME:CEST
DTSTART:20250330T010000
END:DAYLIGHT
BEGIN:STANDARD
TZOFFSETFROM:+0200
TZOFFSETTO:+0100
TZNAME:CET
DTSTART:20251026T010000
END:STANDARD
BEGIN:DAYLIGHT
TZOFFSETFROM:+0100
TZOFFSETTO:+0200
TZNAME:CEST
DTSTART:20260329T010000
END:DAYLIGHT
BEGIN:STANDARD
TZOFFSETFROM:+0200
TZOFFSETTO:+0100
TZNAME:CET
DTSTART:20261025T010000
END:STANDARD
BEGIN:DAYLIGHT
TZOFFSETFROM:+0100
TZOFFSETTO:+0200
TZNAME:CEST
DTSTART:20270328T010000
END:DAYLIGHT
BEGIN:STANDARD
TZOFFSETFROM:+0200
TZOFFSETTO:+0100
TZNAME:CET
DTSTART:20271031T010000
END:STANDARD
END:VTIMEZONE
BEGIN:VEVENT
DTSTART;TZID=Europe/Madrid:20260521T000000
DTEND;TZID=Europe/Madrid:20260521T235900
DTSTAMP:20260419T162637
CREATED:20260316T101913Z
LAST-MODIFIED:20260402T094314Z
UID:798-1779321600-1779407940@www.aaronlangarica.es
SUMMARY:Ensaladas y ensaladillas\, una forma diferente de comer saludablemente
DESCRIPTION:21 de mayo de 2026\nJueves\, 19 a 21.30 h. \nPrecio clientes Ibercaja: 35\,00€\nBásico:40\,00€ \nEnsaladas y ensaladillas\, una forma diferente de comer saludablemente: Fundación Ibercaja La Rioja acoge un fresco y estupendo taller de ensaladas y ensaladillas\, de la mano del chef Aarón Langarica. Las ensaladas son un plato estrella en verano\, pero también una muy buena opción durante todo el año. Nos ofrecen una gran versatilidad a la hora de prepararlas\, si eres de los que piensan que son aburridas\, que siempre son iguales y que no llaman nada la atención\, este curso es para ti. Las ensaladas pueden ser el plato más creativo\, delicioso y completo del mundo. Simplemente hay que saber combinar elementos para que sean completas y muy sabrosas. En este taller aprenderemos 5 tipos de ensaladas y ensaladillas diferentes para dar color a nuestro recetario habitual.Tarifa general 40€\, tarifa para clientes Ibercaja 35€. Las inscripciones a esta actividad comenzarán el 2 de enero.
URL:https://www.aaronlangarica.es/evento/ensaladas-y-ensaladillas-una-forma-diferente-de-comer-saludablemente/
LOCATION:Fundación Ibercaja La Rioja  Plaza Diversidad 2 Logroño 26001
ATTACH;FMTTYPE=image/jpeg:https://www.aaronlangarica.es/wp-content/uploads/2026/03/1760640327-1760640317546-1.jpg
END:VEVENT
END:VCALENDAR