BEGIN:VCALENDAR
VERSION:2.0
PRODID:-//Aarón Langarica Santander - ECPv6.15.20//NONSGML v1.0//EN
CALSCALE:GREGORIAN
METHOD:PUBLISH
X-WR-CALNAME:Aarón Langarica Santander
X-ORIGINAL-URL:https://www.aaronlangarica.es
X-WR-CALDESC:Eventos para Aarón Langarica Santander
REFRESH-INTERVAL;VALUE=DURATION:PT1H
X-Robots-Tag:noindex
X-PUBLISHED-TTL:PT1H
BEGIN:VTIMEZONE
TZID:Europe/Madrid
BEGIN:DAYLIGHT
TZOFFSETFROM:+0100
TZOFFSETTO:+0200
TZNAME:CEST
DTSTART:20240331T010000
END:DAYLIGHT
BEGIN:STANDARD
TZOFFSETFROM:+0200
TZOFFSETTO:+0100
TZNAME:CET
DTSTART:20241027T010000
END:STANDARD
BEGIN:DAYLIGHT
TZOFFSETFROM:+0100
TZOFFSETTO:+0200
TZNAME:CEST
DTSTART:20250330T010000
END:DAYLIGHT
BEGIN:STANDARD
TZOFFSETFROM:+0200
TZOFFSETTO:+0100
TZNAME:CET
DTSTART:20251026T010000
END:STANDARD
BEGIN:DAYLIGHT
TZOFFSETFROM:+0100
TZOFFSETTO:+0200
TZNAME:CEST
DTSTART:20260329T010000
END:DAYLIGHT
BEGIN:STANDARD
TZOFFSETFROM:+0200
TZOFFSETTO:+0100
TZNAME:CET
DTSTART:20261025T010000
END:STANDARD
BEGIN:DAYLIGHT
TZOFFSETFROM:+0100
TZOFFSETTO:+0200
TZNAME:CEST
DTSTART:20270328T010000
END:DAYLIGHT
BEGIN:STANDARD
TZOFFSETFROM:+0200
TZOFFSETTO:+0100
TZNAME:CET
DTSTART:20271031T010000
END:STANDARD
END:VTIMEZONE
BEGIN:VEVENT
DTSTART;TZID=Europe/Madrid:20250526T000000
DTEND;TZID=Europe/Madrid:20250526T235900
DTSTAMP:20260420T073930
CREATED:20260316T104357Z
LAST-MODIFIED:20260320T065231Z
UID:824-1748217600-1748303940@www.aaronlangarica.es
SUMMARY:Charlas ‘Hablemos entre fogones’\,
DESCRIPTION:Los días 19 y 26 de marzo\, se celebrará la segunda edición de los talleres de cocina corresponsable ‘Hablemos entre fogones’\, tras el gran éxito alcanzado por esta iniciativa en su primera edición. La Concejalía de Igualdad\, junto con el grupo de Corresponsabilidad de Logroño por la Igualdad\, impulsa estos talleres de la mano del cocinero Aarón Langarica. En ellos se prepararán diversas tapas y se trabajarán técnicas de planificación y organización de cuestiones cotidianas relacionadas con la corresponsabilidad y tareas de cuidados. Además\, se entregará a las personas participantes un díptico con pautas y claves para incorporar la corresponsabilidad. Los talleres tendrán lugar en el Centro Cultural Ibercaja (Plaza Diversidad\, 2)\, de 18:30 a 21:00 horas y están dirigidos a público mayor de 18 años. Son gratuitos y las plazas son limitadas\, por lo que debe formalizarse la inscripción\, a partir del 5 de marzo\, en el enlace https://forms.gle/9uLxKYJsnbMQWGbP6 o a través del teléfono 607017084.
URL:https://www.aaronlangarica.es/evento/charlas-hablemos-entre-fogones-2/
LOCATION:Centro Cultural Ibercaja (Plaza Diversidad\, 2)
ATTACH;FMTTYPE=image/jpeg:https://www.aaronlangarica.es/wp-content/uploads/2026/03/DSCF8012.jpg
END:VEVENT
BEGIN:VEVENT
DTSTART;TZID=Europe/Madrid:20251217T000000
DTEND;TZID=Europe/Madrid:20251217T235900
DTSTAMP:20260420T073930
CREATED:20260316T104331Z
LAST-MODIFIED:20260319T064926Z
UID:820-1765929600-1766015940@www.aaronlangarica.es
SUMMARY:III Edición del taller "Señorita Croqueta"\, 17 y 18 de diciembre 2025
DESCRIPTION:En esta nueva ocasión aprenderemos a elaborar la bechamel con tres rellenos diferentes a otras ediciones pasadas: Croquetas de cabrales con nueces\, de codillo asado y de chistorra. El primer día elaboraremos las masas y degustaremos una croqueta líquida sorpresa\, el segundo día crearemos las croquetas con diferentes rebozados y formas\, posteriormente\, las degustaremos acompañadas de un buen vino de Bodegas JER \nEl curso tiene un precio de 60€ por persona e incluye más de 5 horas de clase\, todo el material necesario para la elaboración de las recetas\, dossier con las recetas\, vino y degustación de todo lo elaborado. El aforo será máximo 15 personas. \nLas preinscripciones se realizarán en este enlace a partir del día 10 de septiembre y se harán efectivas una vez realizado el pago a partir del 1 de octubre. Por orden de inscripción se darán las plazas a los interesados y les avisaremos vía email para el realizar el pago.
URL:https://www.aaronlangarica.es/evento/iii-edicion-del-taller-senorita-croqueta-17-y-18-de-diciembre-2025/
LOCATION:Centro cultural Ibercaja
ATTACH;FMTTYPE=image/jpeg:https://www.aaronlangarica.es/wp-content/uploads/2026/03/DSCF8048.jpg
END:VEVENT
BEGIN:VEVENT
DTSTART;TZID=Europe/Madrid:20251218T000000
DTEND;TZID=Europe/Madrid:20251218T235900
DTSTAMP:20260420T073930
CREATED:20260319T063826Z
LAST-MODIFIED:20260319T064926Z
UID:972-1766016000-1766102340@www.aaronlangarica.es
SUMMARY:III Edición del taller "Señorita Croqueta"\, 17 y 18 de diciembre 2025
DESCRIPTION:En esta nueva ocasión aprenderemos a elaborar la bechamel con tres rellenos diferentes a otras ediciones pasadas: Croquetas de cabrales con nueces\, de codillo asado y de chistorra. El primer día elaboraremos las masas y degustaremos una croqueta líquida sorpresa\, el segundo día crearemos las croquetas con diferentes rebozados y formas\, posteriormente\, las degustaremos acompañadas de un buen vino de Bodegas JER \nEl curso tiene un precio de 60€ por persona e incluye más de 5 horas de clase\, todo el material necesario para la elaboración de las recetas\, dossier con las recetas\, vino y degustación de todo lo elaborado. El aforo será máximo 15 personas. \nLas preinscripciones se realizarán en este enlace a partir del día 10 de septiembre y se harán efectivas una vez realizado el pago a partir del 1 de octubre. Por orden de inscripción se darán las plazas a los interesados y les avisaremos vía email para el realizar el pago.
URL:https://www.aaronlangarica.es/evento/iii-edicion-del-taller-senorita-croqueta-17-y-18-de-diciembre-2025-2/
LOCATION:Centro cultural Ibercaja
ATTACH;FMTTYPE=image/jpeg:https://www.aaronlangarica.es/wp-content/uploads/2026/03/DSCF8048.jpg
END:VEVENT
BEGIN:VEVENT
DTSTART;TZID=Europe/Madrid:20260214T000000
DTEND;TZID=Europe/Madrid:20260214T235900
DTSTAMP:20260420T073930
CREATED:20260316T104340Z
LAST-MODIFIED:20260318T081417Z
UID:821-1771027200-1771113540@www.aaronlangarica.es
SUMMARY:Taller de cocina para enamorados o no…
DESCRIPTION:El sábado 14 de febrero de la mano de @aaroncocina aprendimos a cocinar un Yogurt de foie\, manzana y pistachos que estaba espectacular y Secreto ibérico en salsa de naranja que nos dejó sin palabras.
URL:https://www.aaronlangarica.es/evento/taller-de-cocina-para-enamorados-o-no/
LOCATION:Desconocido
ATTACH;FMTTYPE=image/jpeg:https://www.aaronlangarica.es/wp-content/uploads/2026/03/DSCF7998.jpg
END:VEVENT
BEGIN:VEVENT
DTSTART;TZID=Europe/Madrid:20260303T000000
DTEND;TZID=Europe/Madrid:20260303T235900
DTSTAMP:20260420T073930
CREATED:20260319T095706Z
LAST-MODIFIED:20260323T115827Z
UID:1018-1772496000-1772582340@www.aaronlangarica.es
SUMMARY:Escuela de cocina de (Lapuebla)
DESCRIPTION:(Aforo completo)
URL:https://www.aaronlangarica.es/evento/escuela-de-cocina-de-lapuebla-de-labarca/
LOCATION:Lapuebla
ATTACH;FMTTYPE=image/jpeg:https://www.aaronlangarica.es/wp-content/uploads/2026/03/DSCF8114.jpg
END:VEVENT
BEGIN:VEVENT
DTSTART;TZID=Europe/Madrid:20260304T000000
DTEND;TZID=Europe/Madrid:20260304T235900
DTSTAMP:20260420T073930
CREATED:20260319T095850Z
LAST-MODIFIED:20260323T115035Z
UID:1023-1772582400-1772668740@www.aaronlangarica.es
SUMMARY:Escuela de cocina (Logroño)
DESCRIPTION:(Aforo completo)
URL:https://www.aaronlangarica.es/evento/escuela-de-cocina-ibercaja-de-logrono/
LOCATION:Ibercaja de Logroño
ATTACH;FMTTYPE=image/jpeg:https://www.aaronlangarica.es/wp-content/uploads/2026/03/DSCF8110.jpg
END:VEVENT
BEGIN:VEVENT
DTSTART;TZID=Europe/Madrid:20260306T000000
DTEND;TZID=Europe/Madrid:20260306T235900
DTSTAMP:20260420T073930
CREATED:20260319T100242Z
LAST-MODIFIED:20260323T115640Z
UID:1036-1772755200-1772841540@www.aaronlangarica.es
SUMMARY:Escuela de cocina (Laguardia)
DESCRIPTION:(Aforo completo)
URL:https://www.aaronlangarica.es/evento/escuela-de-cocina-de-laguardia/
LOCATION:Laguardia
ATTACH;FMTTYPE=image/jpeg:https://www.aaronlangarica.es/wp-content/uploads/2026/03/DSCF8060.jpg
END:VEVENT
BEGIN:VEVENT
DTSTART;TZID=Europe/Madrid:20260309T000000
DTEND;TZID=Europe/Madrid:20260309T235900
DTSTAMP:20260420T073930
CREATED:20260319T095501Z
LAST-MODIFIED:20260323T115245Z
UID:1015-1773014400-1773100740@www.aaronlangarica.es
SUMMARY:Escuela de cocina (Fuenmayor)
DESCRIPTION:(Aforo completo)
URL:https://www.aaronlangarica.es/evento/escuela-de-cocina-de-fuenmayor/
LOCATION:Fuenmayor
ATTACH;FMTTYPE=image/jpeg:https://www.aaronlangarica.es/wp-content/uploads/2026/03/DSCF8133.jpg
END:VEVENT
BEGIN:VEVENT
DTSTART;TZID=Europe/Madrid:20260310T000000
DTEND;TZID=Europe/Madrid:20260310T235900
DTSTAMP:20260420T073930
CREATED:20260319T095706Z
LAST-MODIFIED:20260323T115827Z
UID:1019-1773100800-1773187140@www.aaronlangarica.es
SUMMARY:Escuela de cocina de (Lapuebla)
DESCRIPTION:(Aforo completo)
URL:https://www.aaronlangarica.es/evento/escuela-de-cocina-de-lapuebla-de-labarca-2/
LOCATION:Lapuebla
ATTACH;FMTTYPE=image/jpeg:https://www.aaronlangarica.es/wp-content/uploads/2026/03/DSCF8114.jpg
END:VEVENT
BEGIN:VEVENT
DTSTART;TZID=Europe/Madrid:20260311T000000
DTEND;TZID=Europe/Madrid:20260311T235900
DTSTAMP:20260420T073930
CREATED:20260319T095851Z
LAST-MODIFIED:20260323T115036Z
UID:1024-1773187200-1773273540@www.aaronlangarica.es
SUMMARY:Escuela de cocina (Logroño)
DESCRIPTION:(Aforo completo)
URL:https://www.aaronlangarica.es/evento/escuela-de-cocina-ibercaja-de-logrono-2/
LOCATION:Ibercaja de Logroño
ATTACH;FMTTYPE=image/jpeg:https://www.aaronlangarica.es/wp-content/uploads/2026/03/DSCF8110.jpg
END:VEVENT
BEGIN:VEVENT
DTSTART;TZID=Europe/Madrid:20260313T000000
DTEND;TZID=Europe/Madrid:20260313T235900
DTSTAMP:20260420T073930
CREATED:20260319T100243Z
LAST-MODIFIED:20260323T115641Z
UID:1037-1773360000-1773446340@www.aaronlangarica.es
SUMMARY:Escuela de cocina (Laguardia)
DESCRIPTION:(Aforo completo)
URL:https://www.aaronlangarica.es/evento/escuela-de-cocina-de-laguardia-2/
LOCATION:Laguardia
ATTACH;FMTTYPE=image/jpeg:https://www.aaronlangarica.es/wp-content/uploads/2026/03/DSCF8060.jpg
END:VEVENT
BEGIN:VEVENT
DTSTART;TZID=Europe/Madrid:20260317T000000
DTEND;TZID=Europe/Madrid:20260317T235900
DTSTAMP:20260420T073930
CREATED:20260319T095707Z
LAST-MODIFIED:20260323T115827Z
UID:1020-1773705600-1773791940@www.aaronlangarica.es
SUMMARY:Escuela de cocina de (Lapuebla)
DESCRIPTION:(Aforo completo)
URL:https://www.aaronlangarica.es/evento/escuela-de-cocina-de-lapuebla-de-labarca-3/
LOCATION:Lapuebla
ATTACH;FMTTYPE=image/jpeg:https://www.aaronlangarica.es/wp-content/uploads/2026/03/DSCF8114.jpg
END:VEVENT
BEGIN:VEVENT
DTSTART;TZID=Europe/Madrid:20260318T000000
DTEND;TZID=Europe/Madrid:20260318T235900
DTSTAMP:20260420T073930
CREATED:20260319T095851Z
LAST-MODIFIED:20260323T115036Z
UID:1025-1773792000-1773878340@www.aaronlangarica.es
SUMMARY:Escuela de cocina (Logroño)
DESCRIPTION:(Aforo completo)
URL:https://www.aaronlangarica.es/evento/escuela-de-cocina-ibercaja-de-logrono-3/
LOCATION:Ibercaja de Logroño
ATTACH;FMTTYPE=image/jpeg:https://www.aaronlangarica.es/wp-content/uploads/2026/03/DSCF8110.jpg
END:VEVENT
BEGIN:VEVENT
DTSTART;TZID=Europe/Madrid:20260319T000000
DTEND;TZID=Europe/Madrid:20260319T235900
DTSTAMP:20260420T073930
CREATED:20260319T100142Z
LAST-MODIFIED:20260320T070925Z
UID:1033-1773878400-1773964740@www.aaronlangarica.es
SUMMARY:Entre charlas y tapas cocina corresponsable en fundación cultural ibercaja
DESCRIPTION:
URL:https://www.aaronlangarica.es/evento/entre-charlas-y-tapas-cocina-corresponsable-en-fundacion-cultural-ibercaja/
LOCATION:Desconocido
ATTACH;FMTTYPE=image/jpeg:https://www.aaronlangarica.es/wp-content/uploads/2026/03/DSCF8051-1.jpg
END:VEVENT
BEGIN:VEVENT
DTSTART;TZID=Europe/Madrid:20260320T000000
DTEND;TZID=Europe/Madrid:20260320T235900
DTSTAMP:20260420T073930
CREATED:20260319T100243Z
LAST-MODIFIED:20260323T115641Z
UID:1038-1773964800-1774051140@www.aaronlangarica.es
SUMMARY:Escuela de cocina (Laguardia)
DESCRIPTION:(Aforo completo)
URL:https://www.aaronlangarica.es/evento/escuela-de-cocina-de-laguardia-3/
LOCATION:Laguardia
ATTACH;FMTTYPE=image/jpeg:https://www.aaronlangarica.es/wp-content/uploads/2026/03/DSCF8060.jpg
END:VEVENT
BEGIN:VEVENT
DTSTART;TZID=Europe/Madrid:20260320T000000
DTEND;TZID=Europe/Madrid:20260320T235900
DTSTAMP:20260420T073930
CREATED:20260320T065328Z
LAST-MODIFIED:20260323T115126Z
UID:1167-1773964800-1774051140@www.aaronlangarica.es
SUMMARY:Escuela de cocina (Fuenmayor)
DESCRIPTION:(Aforo completo)
URL:https://www.aaronlangarica.es/evento/escuela-de-cocina-de-fuenmayor-4/
LOCATION:Desconocido
ATTACH;FMTTYPE=image/jpeg:https://www.aaronlangarica.es/wp-content/uploads/2026/03/DSCF8133.jpg
END:VEVENT
BEGIN:VEVENT
DTSTART;TZID=Europe/Madrid:20260324T000000
DTEND;TZID=Europe/Madrid:20260324T235900
DTSTAMP:20260420T073930
CREATED:20260319T095707Z
LAST-MODIFIED:20260323T115827Z
UID:1021-1774310400-1774396740@www.aaronlangarica.es
SUMMARY:Escuela de cocina de (Lapuebla)
DESCRIPTION:(Aforo completo)
URL:https://www.aaronlangarica.es/evento/escuela-de-cocina-de-lapuebla-de-labarca-4/
LOCATION:Lapuebla
ATTACH;FMTTYPE=image/jpeg:https://www.aaronlangarica.es/wp-content/uploads/2026/03/DSCF8114.jpg
END:VEVENT
BEGIN:VEVENT
DTSTART;TZID=Europe/Madrid:20260325T000000
DTEND;TZID=Europe/Madrid:20260325T235900
DTSTAMP:20260420T073930
CREATED:20260319T095851Z
LAST-MODIFIED:20260323T115036Z
UID:1026-1774396800-1774483140@www.aaronlangarica.es
SUMMARY:Escuela de cocina (Logroño)
DESCRIPTION:(Aforo completo)
URL:https://www.aaronlangarica.es/evento/escuela-de-cocina-ibercaja-de-logrono-4/
LOCATION:Ibercaja de Logroño
ATTACH;FMTTYPE=image/jpeg:https://www.aaronlangarica.es/wp-content/uploads/2026/03/DSCF8110.jpg
END:VEVENT
BEGIN:VEVENT
DTSTART;TZID=Europe/Madrid:20260326T000000
DTEND;TZID=Europe/Madrid:20260326T235900
DTSTAMP:20260420T073930
CREATED:20260319T100143Z
LAST-MODIFIED:20260320T070925Z
UID:1034-1774483200-1774569540@www.aaronlangarica.es
SUMMARY:Entre charlas y tapas cocina corresponsable en fundación cultural ibercaja
DESCRIPTION:
URL:https://www.aaronlangarica.es/evento/entre-charlas-y-tapas-cocina-corresponsable-en-fundacion-cultural-ibercaja-2/
LOCATION:Desconocido
ATTACH;FMTTYPE=image/jpeg:https://www.aaronlangarica.es/wp-content/uploads/2026/03/DSCF8051-1.jpg
END:VEVENT
BEGIN:VEVENT
DTSTART;TZID=Europe/Madrid:20260327T000000
DTEND;TZID=Europe/Madrid:20260327T235900
DTSTAMP:20260420T073930
CREATED:20260319T100244Z
LAST-MODIFIED:20260323T115641Z
UID:1039-1774569600-1774655940@www.aaronlangarica.es
SUMMARY:Escuela de cocina (Laguardia)
DESCRIPTION:(Aforo completo)
URL:https://www.aaronlangarica.es/evento/escuela-de-cocina-de-laguardia-4/
LOCATION:Laguardia
ATTACH;FMTTYPE=image/jpeg:https://www.aaronlangarica.es/wp-content/uploads/2026/03/DSCF8060.jpg
END:VEVENT
BEGIN:VEVENT
DTSTART;TZID=Europe/Madrid:20260407T000000
DTEND;TZID=Europe/Madrid:20260407T235900
DTSTAMP:20260420T073930
CREATED:20260319T113707Z
LAST-MODIFIED:20260323T115822Z
UID:1055-1775520000-1775606340@www.aaronlangarica.es
SUMMARY:Escuela de cocina (Lapuebla)
DESCRIPTION:(Aforo completo)
URL:https://www.aaronlangarica.es/evento/escuela-de-cocina-de-lapuebla-de-labarca-5/
LOCATION:Lapuebla de Labarca
ATTACH;FMTTYPE=image/jpeg:https://www.aaronlangarica.es/wp-content/uploads/2026/03/DSCF8114.jpg
END:VEVENT
BEGIN:VEVENT
DTSTART;TZID=Europe/Madrid:20260408T000000
DTEND;TZID=Europe/Madrid:20260408T235900
DTSTAMP:20260420T073930
CREATED:20260319T113838Z
LAST-MODIFIED:20260323T071208Z
UID:1060-1775606400-1775692740@www.aaronlangarica.es
SUMMARY:Escuela de cocina (Logroño)
DESCRIPTION:(Aforo completo)
URL:https://www.aaronlangarica.es/evento/escuela-de-cocina-ibercaja-de-logrono-5/
LOCATION:Ibercaja de Logroño
ATTACH;FMTTYPE=image/jpeg:https://www.aaronlangarica.es/wp-content/uploads/2026/03/DSCF8110.jpg
END:VEVENT
BEGIN:VEVENT
DTSTART;TZID=Europe/Madrid:20260409T000000
DTEND;TZID=Europe/Madrid:20260409T235900
DTSTAMP:20260420T073930
CREATED:20260316T103310Z
LAST-MODIFIED:20260319T094837Z
UID:800-1775692800-1775779140@www.aaronlangarica.es
SUMMARY:Maridaje de nuevas añadas de pequeñas bodegas elaboradoras de Rioja
DESCRIPTION:09 de abril de 2026\nJueves\, 19 a 21.30 h\n \nPrecio clientes Ibercaja: 50\,00€\nBásico:60\,00€\n \nMaridaje de nuevas añadas de pequeñas bodegas elaboradoras de Rioja: Fundación Ibercaja La Rioja programa este showcooking de la mano del cocinero Aarón Langarica\, en el que se elaborarán 4 pinchos/tapas y los maridaremos con 4 vinos de Rioja de la nueva añada 2025.&nbsp;Elegiremos vinos muy diferentes entre sí\, para poder abarcar todo lo que nos ofrece esta gran Denominación.Con la colaboración de un enólogo hablaremos sobre cada vino y el cocinero explicará el porqué de cada pincho/tapa para un maridaje excelente entre alimento y vino.Tarifa general 60€\, tarifa para clientes de Ibercaja 50€.Las inscripciones a esta actividad comenzarán el 2 de enero. \n  \n 
URL:https://www.aaronlangarica.es/evento/maridaje-de-nuevas-anadas-de-pequenas-bodegas-elaboradoras-de-rioja/
LOCATION:Fundación Ibercaja La Rioja  Plaza Diversidad 2 Logroño 26001
ATTACH;FMTTYPE=image/jpeg:https://www.aaronlangarica.es/wp-content/uploads/2026/03/1760639616-1760639610434.jpg
END:VEVENT
BEGIN:VEVENT
DTSTART;TZID=Europe/Madrid:20260410T000000
DTEND;TZID=Europe/Madrid:20260410T235900
DTSTAMP:20260420T073930
CREATED:20260319T120421Z
LAST-MODIFIED:20260323T115642Z
UID:1118-1775779200-1775865540@www.aaronlangarica.es
SUMMARY:Escuela de cocina (Laguardia)
DESCRIPTION:(Aforo completo)
URL:https://www.aaronlangarica.es/evento/escuela-de-cocina-laguardia/
LOCATION:Laguardia
ATTACH;FMTTYPE=image/jpeg:https://www.aaronlangarica.es/wp-content/uploads/2026/03/DSCF8060.jpg
END:VEVENT
BEGIN:VEVENT
DTSTART;TZID=Europe/Madrid:20260413T000000
DTEND;TZID=Europe/Madrid:20260413T235900
DTSTAMP:20260420T073930
CREATED:20260319T100413Z
LAST-MODIFIED:20260323T115243Z
UID:1041-1776038400-1776124740@www.aaronlangarica.es
SUMMARY:Escuela de cocina (Fuenmayor)
DESCRIPTION:(Aforo completo)
URL:https://www.aaronlangarica.es/evento/escuela-de-cocina-de-fuenmayor-2/
LOCATION:Fuenmayor
ATTACH;FMTTYPE=image/jpeg:https://www.aaronlangarica.es/wp-content/uploads/2026/03/DSCF8133.jpg
END:VEVENT
BEGIN:VEVENT
DTSTART;TZID=Europe/Madrid:20260414T000000
DTEND;TZID=Europe/Madrid:20260414T235900
DTSTAMP:20260420T073930
CREATED:20260319T113707Z
LAST-MODIFIED:20260323T115823Z
UID:1056-1776124800-1776211140@www.aaronlangarica.es
SUMMARY:Escuela de cocina (Lapuebla)
DESCRIPTION:(Aforo completo)
URL:https://www.aaronlangarica.es/evento/escuela-de-cocina-de-lapuebla-de-labarca-6/
LOCATION:Lapuebla de Labarca
ATTACH;FMTTYPE=image/jpeg:https://www.aaronlangarica.es/wp-content/uploads/2026/03/DSCF8114.jpg
END:VEVENT
BEGIN:VEVENT
DTSTART;TZID=Europe/Madrid:20260415T000000
DTEND;TZID=Europe/Madrid:20260415T235900
DTSTAMP:20260420T073930
CREATED:20260319T113839Z
LAST-MODIFIED:20260323T071208Z
UID:1061-1776211200-1776297540@www.aaronlangarica.es
SUMMARY:Escuela de cocina (Logroño)
DESCRIPTION:(Aforo completo)
URL:https://www.aaronlangarica.es/evento/escuela-de-cocina-ibercaja-de-logrono-6/
LOCATION:Ibercaja de Logroño
ATTACH;FMTTYPE=image/jpeg:https://www.aaronlangarica.es/wp-content/uploads/2026/03/DSCF8110.jpg
END:VEVENT
BEGIN:VEVENT
DTSTART;TZID=Europe/Madrid:20260417T000000
DTEND;TZID=Europe/Madrid:20260417T235900
DTSTAMP:20260420T073930
CREATED:20260319T120421Z
LAST-MODIFIED:20260323T115642Z
UID:1119-1776384000-1776470340@www.aaronlangarica.es
SUMMARY:Escuela de cocina (Laguardia)
DESCRIPTION:(Aforo completo)
URL:https://www.aaronlangarica.es/evento/escuela-de-cocina-laguardia-2/
LOCATION:Laguardia
ATTACH;FMTTYPE=image/jpeg:https://www.aaronlangarica.es/wp-content/uploads/2026/03/DSCF8060.jpg
END:VEVENT
BEGIN:VEVENT
DTSTART;TZID=Europe/Madrid:20260421T000000
DTEND;TZID=Europe/Madrid:20260421T235900
DTSTAMP:20260420T073930
CREATED:20260319T113707Z
LAST-MODIFIED:20260323T115823Z
UID:1057-1776729600-1776815940@www.aaronlangarica.es
SUMMARY:Escuela de cocina (Lapuebla)
DESCRIPTION:(Aforo completo)
URL:https://www.aaronlangarica.es/evento/escuela-de-cocina-de-lapuebla-de-labarca-7/
LOCATION:Lapuebla de Labarca
ATTACH;FMTTYPE=image/jpeg:https://www.aaronlangarica.es/wp-content/uploads/2026/03/DSCF8114.jpg
END:VEVENT
BEGIN:VEVENT
DTSTART;TZID=Europe/Madrid:20260422T000000
DTEND;TZID=Europe/Madrid:20260422T235900
DTSTAMP:20260420T073930
CREATED:20260316T104317Z
LAST-MODIFIED:20260402T102541Z
UID:818-1776816000-1776902340@www.aaronlangarica.es
SUMMARY:Tasting Europe
DESCRIPTION:La actividad se enmarca dentro de los actos de la Red Eurodesk vinculados a la Semana Europea de la Juventud \nEl próximo Miércoles 22 de abril a las 17:30 h. os esperamos en este evento sobre movilidad juvenil europea en el Patio central de La Gota de Leche de Logroño. \n\nDirigido exclusivamente a jóvenes entre 16 y 30 años\nInscripciones abiertas desde el 31 de marzo. Inscríbete aquí\n\nCada dos años la Comisión Europea celebra y promueve el compromiso\, la participación y la ciudadanía activa de los jóvenes en toda Europa. En esta edición dedicada a la solidaridad y la equidad\, se celebran además treinta años de los programas de voluntariado en Europa. \nConoceremos a través de la Red Eurodesk los principales programas de movilidad juvenil\, sus acciones\, oportunidades\, herramientas de gestión y búsqueda. Además conoceremos de primera mano la experiencia de Candela Cabezón García voluntaria en un reciente Intercambio Juvenil en Polonia\, y participante en las conclusiones del proyecto “From Chains to Bridges” celebrado en Viena (Austria) \nCandela es becaria de nuestra Red de Puntos de información y participante en diferentes intercambios juveniles (Erasmus+) este año. \nComo colofón finalizaremos con un show cooking guiado por nuestro cocinero Aarón Langarica donde mostrará a los participantes la elaboración de diferentes pequeños bocados/tapas de 4 países europeos\, finalizando la jornada con una degustación de los mismos. También desde Mostea mostrarán la chispa riojana con la que han reinventado el tradicional mosto. Lo ofrecerán a probar como una alternativa natural\, sofisticada y 100% riojana para los nuevos consumidores. \nRecetas: \n\nQuiche lorraine: Pastel salado relleno de verduras\, quesos\, pescado… (Francia)\nSalchicha bratwrust: Rellena principalmente de carne de cerdo y especias la acompañaremos con chucrut una col fermentada. (Alemania)\nBanitza: Crujiente de masa filo relleno de queso (Bulgaria)\nPastelito de Belém: uno de los postres e crema más típicos de (Portugal)
URL:https://www.aaronlangarica.es/evento/eurodesk-2/
LOCATION:C/ Once de Junio\, 2. 26001 Logroño La Rioja
ATTACH;FMTTYPE=image/jpeg:https://www.aaronlangarica.es/wp-content/uploads/2026/03/IMG-20260112-WA0006-1.jpg
END:VEVENT
END:VCALENDAR