BEGIN:VCALENDAR
VERSION:2.0
PRODID:-//Aarón Langarica Santander - ECPv6.15.20//NONSGML v1.0//EN
CALSCALE:GREGORIAN
METHOD:PUBLISH
X-ORIGINAL-URL:https://www.aaronlangarica.es
X-WR-CALDESC:Eventos para Aarón Langarica Santander
REFRESH-INTERVAL;VALUE=DURATION:PT1H
X-Robots-Tag:noindex
X-PUBLISHED-TTL:PT1H
BEGIN:VTIMEZONE
TZID:Europe/Madrid
BEGIN:DAYLIGHT
TZOFFSETFROM:+0100
TZOFFSETTO:+0200
TZNAME:CEST
DTSTART:20250330T010000
END:DAYLIGHT
BEGIN:STANDARD
TZOFFSETFROM:+0200
TZOFFSETTO:+0100
TZNAME:CET
DTSTART:20251026T010000
END:STANDARD
BEGIN:DAYLIGHT
TZOFFSETFROM:+0100
TZOFFSETTO:+0200
TZNAME:CEST
DTSTART:20260329T010000
END:DAYLIGHT
BEGIN:STANDARD
TZOFFSETFROM:+0200
TZOFFSETTO:+0100
TZNAME:CET
DTSTART:20261025T010000
END:STANDARD
BEGIN:DAYLIGHT
TZOFFSETFROM:+0100
TZOFFSETTO:+0200
TZNAME:CEST
DTSTART:20270328T010000
END:DAYLIGHT
BEGIN:STANDARD
TZOFFSETFROM:+0200
TZOFFSETTO:+0100
TZNAME:CET
DTSTART:20271031T010000
END:STANDARD
END:VTIMEZONE
BEGIN:VEVENT
DTSTART;TZID=Europe/Madrid:20260519T000000
DTEND;TZID=Europe/Madrid:20260519T235900
DTSTAMP:20260419T204056
CREATED:20260319T120639Z
LAST-MODIFIED:20260323T115821Z
UID:1129-1779148800-1779235140@www.aaronlangarica.es
SUMMARY:Escuela de cocina (Lapuebla)
DESCRIPTION:(Aforo completo)
URL:https://www.aaronlangarica.es/evento/escuela-de-cocina-lapuebla-3/
LOCATION:Lapuebla de Labarca
ATTACH;FMTTYPE=image/jpeg:https://www.aaronlangarica.es/wp-content/uploads/2026/03/DSCF8114.jpg
END:VEVENT
BEGIN:VEVENT
DTSTART;TZID=Europe/Madrid:20260520T000000
DTEND;TZID=Europe/Madrid:20260520T235900
DTSTAMP:20260419T204056
CREATED:20260319T120912Z
LAST-MODIFIED:20260323T114938Z
UID:1134-1779235200-1779321540@www.aaronlangarica.es
SUMMARY:Escuela de cocina (Logroño)
DESCRIPTION:(Aforo completo)
URL:https://www.aaronlangarica.es/evento/escuela-de-cocina-logrono-3/
LOCATION:Ibercaja de Logroño
ATTACH;FMTTYPE=image/jpeg:https://www.aaronlangarica.es/wp-content/uploads/2026/03/DSCF8110.jpg
END:VEVENT
BEGIN:VEVENT
DTSTART;TZID=Europe/Madrid:20260521T000000
DTEND;TZID=Europe/Madrid:20260521T235900
DTSTAMP:20260419T204056
CREATED:20260316T101913Z
LAST-MODIFIED:20260402T094314Z
UID:798-1779321600-1779407940@www.aaronlangarica.es
SUMMARY:Ensaladas y ensaladillas\, una forma diferente de comer saludablemente
DESCRIPTION:21 de mayo de 2026\nJueves\, 19 a 21.30 h. \nPrecio clientes Ibercaja: 35\,00€\nBásico:40\,00€ \nEnsaladas y ensaladillas\, una forma diferente de comer saludablemente: Fundación Ibercaja La Rioja acoge un fresco y estupendo taller de ensaladas y ensaladillas\, de la mano del chef Aarón Langarica. Las ensaladas son un plato estrella en verano\, pero también una muy buena opción durante todo el año. Nos ofrecen una gran versatilidad a la hora de prepararlas\, si eres de los que piensan que son aburridas\, que siempre son iguales y que no llaman nada la atención\, este curso es para ti. Las ensaladas pueden ser el plato más creativo\, delicioso y completo del mundo. Simplemente hay que saber combinar elementos para que sean completas y muy sabrosas. En este taller aprenderemos 5 tipos de ensaladas y ensaladillas diferentes para dar color a nuestro recetario habitual.Tarifa general 40€\, tarifa para clientes Ibercaja 35€. Las inscripciones a esta actividad comenzarán el 2 de enero.
URL:https://www.aaronlangarica.es/evento/ensaladas-y-ensaladillas-una-forma-diferente-de-comer-saludablemente/
LOCATION:Fundación Ibercaja La Rioja  Plaza Diversidad 2 Logroño 26001
ATTACH;FMTTYPE=image/jpeg:https://www.aaronlangarica.es/wp-content/uploads/2026/03/1760640327-1760640317546-1.jpg
END:VEVENT
BEGIN:VEVENT
DTSTART;TZID=Europe/Madrid:20260522T000000
DTEND;TZID=Europe/Madrid:20260522T235900
DTSTAMP:20260419T204056
CREATED:20260319T121306Z
LAST-MODIFIED:20260323T115457Z
UID:1142-1779408000-1779494340@www.aaronlangarica.es
SUMMARY:Escuela de cocina (Laguardia)
DESCRIPTION:(Aforo completo)
URL:https://www.aaronlangarica.es/evento/escuela-de-cocina-laguardia-6/
LOCATION:Laguardia
ATTACH;FMTTYPE=image/jpeg:https://www.aaronlangarica.es/wp-content/uploads/2026/03/DSCF8060.jpg
END:VEVENT
BEGIN:VEVENT
DTSTART;TZID=Europe/Madrid:20260525T000000
DTEND;TZID=Europe/Madrid:20260525T235900
DTSTAMP:20260419T204056
CREATED:20260319T120532Z
LAST-MODIFIED:20260323T115209Z
UID:1125-1779667200-1779753540@www.aaronlangarica.es
SUMMARY:Escuela de cocina (Fuenmayor)
DESCRIPTION:(Aforo completo)
URL:https://www.aaronlangarica.es/evento/escuela-de-cocina-fuenmayor-2/
LOCATION:Fuenmayor
ATTACH;FMTTYPE=image/jpeg:https://www.aaronlangarica.es/wp-content/uploads/2026/03/DSCF8133.jpg
END:VEVENT
BEGIN:VEVENT
DTSTART;TZID=Europe/Madrid:20260526T000000
DTEND;TZID=Europe/Madrid:20260526T235900
DTSTAMP:20260419T204056
CREATED:20260319T120640Z
LAST-MODIFIED:20260323T115821Z
UID:1130-1779753600-1779839940@www.aaronlangarica.es
SUMMARY:Escuela de cocina (Lapuebla)
DESCRIPTION:(Aforo completo)
URL:https://www.aaronlangarica.es/evento/escuela-de-cocina-lapuebla-4/
LOCATION:Lapuebla de Labarca
ATTACH;FMTTYPE=image/jpeg:https://www.aaronlangarica.es/wp-content/uploads/2026/03/DSCF8114.jpg
END:VEVENT
BEGIN:VEVENT
DTSTART;TZID=Europe/Madrid:20260527T000000
DTEND;TZID=Europe/Madrid:20260527T235900
DTSTAMP:20260419T204056
CREATED:20260319T120912Z
LAST-MODIFIED:20260323T114938Z
UID:1135-1779840000-1779926340@www.aaronlangarica.es
SUMMARY:Escuela de cocina (Logroño)
DESCRIPTION:(Aforo completo)
URL:https://www.aaronlangarica.es/evento/escuela-de-cocina-logrono-4/
LOCATION:Ibercaja de Logroño
ATTACH;FMTTYPE=image/jpeg:https://www.aaronlangarica.es/wp-content/uploads/2026/03/DSCF8110.jpg
END:VEVENT
BEGIN:VEVENT
DTSTART;TZID=Europe/Madrid:20260529T000000
DTEND;TZID=Europe/Madrid:20260529T235900
DTSTAMP:20260419T204056
CREATED:20260319T121307Z
LAST-MODIFIED:20260323T115457Z
UID:1143-1780012800-1780099140@www.aaronlangarica.es
SUMMARY:Escuela de cocina (Laguardia)
DESCRIPTION:(Aforo completo)
URL:https://www.aaronlangarica.es/evento/escuela-de-cocina-laguardia-7/
LOCATION:Laguardia
ATTACH;FMTTYPE=image/jpeg:https://www.aaronlangarica.es/wp-content/uploads/2026/03/DSCF8060.jpg
END:VEVENT
BEGIN:VEVENT
DTSTART;TZID=Europe/Madrid:20260618T000000
DTEND;TZID=Europe/Madrid:20260618T235900
DTSTAMP:20260419T204056
CREATED:20260316T104302Z
LAST-MODIFIED:20260318T081118Z
UID:817-1781740800-1781827140@www.aaronlangarica.es
SUMMARY:Deconstruyendo la Laurel (Temático San Bernabe)
DESCRIPTION:(horario de tarde 19 a 21 h)
URL:https://www.aaronlangarica.es/evento/deconstruyendo-la-laurel-tematico-san-bernabe/
LOCATION:Desconocido
ATTACH;FMTTYPE=image/jpeg:https://www.aaronlangarica.es/wp-content/uploads/2026/03/IMG-20260112-WA0003.jpg
END:VEVENT
BEGIN:VEVENT
DTSTART;TZID=Europe/Madrid:20260716T000000
DTEND;TZID=Europe/Madrid:20260716T235900
DTSTAMP:20260419T204056
CREATED:20260316T104242Z
LAST-MODIFIED:20260318T081103Z
UID:816-1784160000-1784246340@www.aaronlangarica.es
SUMMARY:Cocina de verano
DESCRIPTION:(horario de mañana 11 a 13 h)
URL:https://www.aaronlangarica.es/evento/cocina-de-verano/
LOCATION:Desconocido
ATTACH;FMTTYPE=image/jpeg:https://www.aaronlangarica.es/wp-content/uploads/2026/03/IMG-20260112-WA0004.jpg
END:VEVENT
BEGIN:VEVENT
DTSTART;TZID=Europe/Madrid:20261022T000000
DTEND;TZID=Europe/Madrid:20261022T235900
DTSTAMP:20260419T204056
CREATED:20260316T103404Z
LAST-MODIFIED:20260318T100930Z
UID:803-1792627200-1792713540@www.aaronlangarica.es
SUMMARY:Eurodesk
DESCRIPTION:(Horario de tarde de 19 a 21 h)
URL:https://www.aaronlangarica.es/evento/eurodesk/
LOCATION:Desconocido
ATTACH;FMTTYPE=image/jpeg:https://www.aaronlangarica.es/wp-content/uploads/2026/03/DSCF8012.jpg
END:VEVENT
END:VCALENDAR