BEGIN:VCALENDAR
VERSION:2.0
PRODID:-//Aarón Langarica Santander - ECPv6.15.20//NONSGML v1.0//EN
CALSCALE:GREGORIAN
METHOD:PUBLISH
X-WR-CALNAME:Aarón Langarica Santander
X-ORIGINAL-URL:https://www.aaronlangarica.es
X-WR-CALDESC:Eventos para Aarón Langarica Santander
REFRESH-INTERVAL;VALUE=DURATION:PT1H
X-Robots-Tag:noindex
X-PUBLISHED-TTL:PT1H
BEGIN:VTIMEZONE
TZID:Europe/Madrid
BEGIN:DAYLIGHT
TZOFFSETFROM:+0100
TZOFFSETTO:+0200
TZNAME:CEST
DTSTART:20240331T010000
END:DAYLIGHT
BEGIN:STANDARD
TZOFFSETFROM:+0200
TZOFFSETTO:+0100
TZNAME:CET
DTSTART:20241027T010000
END:STANDARD
BEGIN:DAYLIGHT
TZOFFSETFROM:+0100
TZOFFSETTO:+0200
TZNAME:CEST
DTSTART:20250330T010000
END:DAYLIGHT
BEGIN:STANDARD
TZOFFSETFROM:+0200
TZOFFSETTO:+0100
TZNAME:CET
DTSTART:20251026T010000
END:STANDARD
BEGIN:DAYLIGHT
TZOFFSETFROM:+0100
TZOFFSETTO:+0200
TZNAME:CEST
DTSTART:20260329T010000
END:DAYLIGHT
BEGIN:STANDARD
TZOFFSETFROM:+0200
TZOFFSETTO:+0100
TZNAME:CET
DTSTART:20261025T010000
END:STANDARD
END:VTIMEZONE
BEGIN:VEVENT
DTSTART;TZID=Europe/Madrid:20251217T000000
DTEND;TZID=Europe/Madrid:20251217T235900
DTSTAMP:20260419T203337
CREATED:20260316T104331Z
LAST-MODIFIED:20260319T064926Z
UID:820-1765929600-1766015940@www.aaronlangarica.es
SUMMARY:III Edición del taller "Señorita Croqueta"\, 17 y 18 de diciembre 2025
DESCRIPTION:En esta nueva ocasión aprenderemos a elaborar la bechamel con tres rellenos diferentes a otras ediciones pasadas: Croquetas de cabrales con nueces\, de codillo asado y de chistorra. El primer día elaboraremos las masas y degustaremos una croqueta líquida sorpresa\, el segundo día crearemos las croquetas con diferentes rebozados y formas\, posteriormente\, las degustaremos acompañadas de un buen vino de Bodegas JER \nEl curso tiene un precio de 60€ por persona e incluye más de 5 horas de clase\, todo el material necesario para la elaboración de las recetas\, dossier con las recetas\, vino y degustación de todo lo elaborado. El aforo será máximo 15 personas. \nLas preinscripciones se realizarán en este enlace a partir del día 10 de septiembre y se harán efectivas una vez realizado el pago a partir del 1 de octubre. Por orden de inscripción se darán las plazas a los interesados y les avisaremos vía email para el realizar el pago.
URL:https://www.aaronlangarica.es/evento/iii-edicion-del-taller-senorita-croqueta-17-y-18-de-diciembre-2025/
LOCATION:Centro cultural Ibercaja
ATTACH;FMTTYPE=image/jpeg:https://www.aaronlangarica.es/wp-content/uploads/2026/03/DSCF8048.jpg
END:VEVENT
BEGIN:VEVENT
DTSTART;TZID=Europe/Madrid:20251218T000000
DTEND;TZID=Europe/Madrid:20251218T235900
DTSTAMP:20260419T203337
CREATED:20260319T063826Z
LAST-MODIFIED:20260319T064926Z
UID:972-1766016000-1766102340@www.aaronlangarica.es
SUMMARY:III Edición del taller "Señorita Croqueta"\, 17 y 18 de diciembre 2025
DESCRIPTION:En esta nueva ocasión aprenderemos a elaborar la bechamel con tres rellenos diferentes a otras ediciones pasadas: Croquetas de cabrales con nueces\, de codillo asado y de chistorra. El primer día elaboraremos las masas y degustaremos una croqueta líquida sorpresa\, el segundo día crearemos las croquetas con diferentes rebozados y formas\, posteriormente\, las degustaremos acompañadas de un buen vino de Bodegas JER \nEl curso tiene un precio de 60€ por persona e incluye más de 5 horas de clase\, todo el material necesario para la elaboración de las recetas\, dossier con las recetas\, vino y degustación de todo lo elaborado. El aforo será máximo 15 personas. \nLas preinscripciones se realizarán en este enlace a partir del día 10 de septiembre y se harán efectivas una vez realizado el pago a partir del 1 de octubre. Por orden de inscripción se darán las plazas a los interesados y les avisaremos vía email para el realizar el pago.
URL:https://www.aaronlangarica.es/evento/iii-edicion-del-taller-senorita-croqueta-17-y-18-de-diciembre-2025-2/
LOCATION:Centro cultural Ibercaja
ATTACH;FMTTYPE=image/jpeg:https://www.aaronlangarica.es/wp-content/uploads/2026/03/DSCF8048.jpg
END:VEVENT
END:VCALENDAR